BEGIN:VCALENDAR
VERSION:2.0
PRODID:-//Spor 0 og 1 NYT - ECPv6.15.13//NONSGML v1.0//EN
CALSCALE:GREGORIAN
METHOD:PUBLISH
X-ORIGINAL-URL:https://spor1nyt.sporskiftet.dk
X-WR-CALDESC:Begivenheder for Spor 0 og 1 NYT
REFRESH-INTERVAL;VALUE=DURATION:PT1H
X-Robots-Tag:noindex
X-PUBLISHED-TTL:PT1H
BEGIN:VTIMEZONE
TZID:Europe/Copenhagen
BEGIN:DAYLIGHT
TZOFFSETFROM:+0100
TZOFFSETTO:+0200
TZNAME:CEST
DTSTART:20210328T010000
END:DAYLIGHT
BEGIN:STANDARD
TZOFFSETFROM:+0200
TZOFFSETTO:+0100
TZNAME:CET
DTSTART:20211031T010000
END:STANDARD
BEGIN:DAYLIGHT
TZOFFSETFROM:+0100
TZOFFSETTO:+0200
TZNAME:CEST
DTSTART:20220327T010000
END:DAYLIGHT
BEGIN:STANDARD
TZOFFSETFROM:+0200
TZOFFSETTO:+0100
TZNAME:CET
DTSTART:20221030T010000
END:STANDARD
BEGIN:DAYLIGHT
TZOFFSETFROM:+0100
TZOFFSETTO:+0200
TZNAME:CEST
DTSTART:20230326T010000
END:DAYLIGHT
BEGIN:STANDARD
TZOFFSETFROM:+0200
TZOFFSETTO:+0100
TZNAME:CET
DTSTART:20231029T010000
END:STANDARD
END:VTIMEZONE
BEGIN:VEVENT
DTSTART;TZID=Europe/Copenhagen:20220528T080000
DTEND;TZID=Europe/Copenhagen:20220529T170000
DTSTAMP:20260426T023801
CREATED:20220116T094918Z
LAST-MODIFIED:20230602T113254Z
UID:10879-1653724800-1653843600@spor1nyt.sporskiftet.dk
SUMMARY:Halver Modultreff 2022
DESCRIPTION:Sidste weekend i maj afholdes der igen Spor1 modul træf i den tyske by Halver. Her samles flere klubber\, foreninger og enkeltpersoner med deres moduler for at samle det hele til et kæmpe stort Spor1 anlæg. \nBlandt udstillerne er:\nLeuvense Spooreen Vrienden \nLæs også:\nDe bedste glimt fra “Spur1 Treff” i Halver fra 2015 til 2019
URL:https://spor1nyt.sporskiftet.dk/begivenhed/halver-modultreff-2022/
LOCATION:Halver\, Sporthalle Mühlenstraße 2\, Halver\, 58553\, Germany
CATEGORIES:Modultræf
ATTACH;FMTTYPE=image/jpeg:https://spor1nyt.sporskiftet.dk/wp-content/uploads/2020/10/2019_Halver_01.jpg
ORGANIZER;CN="Modelleisenbahnclub Halver e. V.":MAILTO:mec-halver@gmx.de
END:VEVENT
END:VCALENDAR